BEGIN:VCALENDAR
VERSION:2.0
PRODID:-//Tukios.com/
BEGIN:VEVENT
UID:d465c23d-dee7-44bc-bf40-11d176b10e3b@www.waynebozefuneralhome.com
DTSTAMP:20260422T085037Z
DTSTART:20260304T160000Z
DTEND:20260304T170000Z
SUMMARY:Celebration of Life
DESCRIPTION:
URL:https://www.waynebozefuneralhome.com/obituaries/darell-nay
LOCATION: 1116 Brown St  Waxahachie TX 75165
GEO:32.407526;-96.8336344
END:VEVENT
END:VCALENDAR