BEGIN:VCALENDAR
VERSION:2.0
PRODID:-//Tukios.com/
BEGIN:VEVENT
UID:477fe946-8c6d-4191-8ab6-e8cca8031ffb@www.waynebozefuneralhome.com
DTSTAMP:20260420T122235Z
DTSTART:20260303T220000Z
DTEND:20260304T010000Z
SUMMARY:Visitation
DESCRIPTION:
URL:https://www.waynebozefuneralhome.com/obituaries/darell-nay
LOCATION: 1826 US-287 BUS  Waxahachie TX 75165
GEO:32.4041194;-96.8671411
END:VEVENT
END:VCALENDAR